BEGIN:VCALENDAR
PRODID:-//Microsoft Corporation//Outlook 12.0 MIMEDIR//EN
VERSION:2.0
METHOD:PUBLISH
X-MS-OLK-FORCEINSPECTOROPEN:TRUE
BEGIN:VEVENT
CLASS:PUBLIC
CREATED:20260419T155206Z
DESCRIPTION: Introducirá el uso de técnicas de Procesamiento de Lenguaje Natural (NLP) para analizar opiniones de clientes, reviews y detectar patrones de texto en volúmenes masivos de datos. Se pueden presentar casos de uso en soporte al cliente y reputación de marca.\n \n¿Estás aprovechando el valor oculto de las opiniones y comentarios de tus clientes?\n \nDescubre cómo el análisis de sentimientos puede ayudarte a tomar decisiones basadas en la percepción real de tus consumidores.\n
DTSTART:20241121T200000
DTEND:20241121T210000
DTSTAMP:20260419T155206Z
LOCATION:Online
PRIORITY:5
SEQUENCE:0
SUMMARY;LANGUAGE=es-es:Tecnowebinars.com - :: NLP para Negocios: Análisis de Sentimientos y Procesamiento de Textos con Python
TRANSP:OPAQUE
UID:36c670f24a5b0333df85902d501a7ef9 Tecnowebinars.com
X-MICROSOFT-CDO-BUSYSTATUS:BUSY
X-MICROSOFT-CDO-IMPORTANCE:1
X-MICROSOFT-DISALLOW-COUNTER:FALSE
X-MS-OLK-ALLOWEXTERNCHECK:TRUE
X-MS-OLK-AUTOFILLLOCATION:FALSE
X-MS-OLK-CONFTYPE:0
BEGIN:VALARM
TRIGGER:-PT1440M
ACTION:DISPLAY
DESCRIPTION:Reminder
END:VALARM
END:VEVENT
END:VCALENDAR
