BEGIN:VCALENDAR
PRODID:-//Microsoft Corporation//Outlook 12.0 MIMEDIR//EN
VERSION:2.0
METHOD:PUBLISH
X-MS-OLK-FORCEINSPECTOROPEN:TRUE
BEGIN:VEVENT
CLASS:PUBLIC
CREATED:20260419T171129Z
DESCRIPTION: La interpretabilidad es clave para generar confianza en los modelos.\n \nEn este webinar se explicarán técnicas como SHAP y LIME, así como estrategias para comunicar resultados de manera comprensible a equipos no técnicos.\n \nLa falta de confianza en los modelos de IA es una de las principales barreras para su adopción. \n \n¿Te gustaría entender el 'por qué' detrás de cada predicción y cómo transmitirlo a tu equipo?\n
DTSTART:20241022T173000
DTEND:20241022T183000
DTSTAMP:20260419T171129Z
LOCATION:Online
PRIORITY:5
SEQUENCE:0
SUMMARY;LANGUAGE=es-es:Tecnowebinars.com - :: Interpretabilidad de Modelos de Machine Learning: Explicando el Por qué de Cada Predicción
TRANSP:OPAQUE
UID:5796b8a091f7b1774dff5d5c47110f9b Tecnowebinars.com
X-MICROSOFT-CDO-BUSYSTATUS:BUSY
X-MICROSOFT-CDO-IMPORTANCE:1
X-MICROSOFT-DISALLOW-COUNTER:FALSE
X-MS-OLK-ALLOWEXTERNCHECK:TRUE
X-MS-OLK-AUTOFILLLOCATION:FALSE
X-MS-OLK-CONFTYPE:0
BEGIN:VALARM
TRIGGER:-PT1440M
ACTION:DISPLAY
DESCRIPTION:Reminder
END:VALARM
END:VEVENT
END:VCALENDAR
