BEGIN:VCALENDAR
PRODID:-//Microsoft Corporation//Outlook 12.0 MIMEDIR//EN
VERSION:2.0
METHOD:PUBLISH
X-MS-OLK-FORCEINSPECTOROPEN:TRUE
BEGIN:VEVENT
CLASS:PUBLIC
CREATED:20260419T171129Z
DESCRIPTION:Este webinar mostrará cómo implementar un pipeline de machine learning para automatizar decisiones de negocio, desde la recolección de datos hasta la implementación de modelos en tiempo real. Se pueden utilizar casos prácticos como automatización en marketing o detección de fraude.\n \n¿Sabías que más del 40% de las empresas aún no aprovechan el potencial de la automatización en sus procesos?\n \nTe mostraremos cómo transformar predicciones en acciones automatizadas para ganar en eficiencia y tomar decisiones en tiempo real.\n
DTSTART:20241015T173000
DTEND:20241015T183000
DTSTAMP:20260419T171129Z
LOCATION:Online
PRIORITY:5
SEQUENCE:0
SUMMARY;LANGUAGE=es-es:Tecnowebinars.com - :: Automatización de Procesos con Machine Learning: De la Predicción a la Acción
TRANSP:OPAQUE
UID:671fbdee44b4b04f015f4844e20b0ed8 Tecnowebinars.com
X-MICROSOFT-CDO-BUSYSTATUS:BUSY
X-MICROSOFT-CDO-IMPORTANCE:1
X-MICROSOFT-DISALLOW-COUNTER:FALSE
X-MS-OLK-ALLOWEXTERNCHECK:TRUE
X-MS-OLK-AUTOFILLLOCATION:FALSE
X-MS-OLK-CONFTYPE:0
BEGIN:VALARM
TRIGGER:-PT1440M
ACTION:DISPLAY
DESCRIPTION:Reminder
END:VALARM
END:VEVENT
END:VCALENDAR
