BEGIN:VCALENDAR
PRODID:-//Microsoft Corporation//Outlook 12.0 MIMEDIR//EN
VERSION:2.0
METHOD:PUBLISH
X-MS-OLK-FORCEINSPECTOROPEN:TRUE
BEGIN:VEVENT
CLASS:PUBLIC
CREATED:20260419T143814Z
DESCRIPTION: 1. Por qué a veces nos confundimos hablando de planificación industrial\n2. Objetivos de la Planificación de Recursos Industriales\n3. El proceso de la Planificación Industrial\n4.Definiendo formalmente el problema\n5. El MRP clásico de Orlicky\n6. El Planificador Avanzado a Capacidad Finita de Geinfor\n7. Qué es secuenciar\n8. Elementos de la secuenciación\n9. Objetivos de la secuenciación\n10. Definiendo formalmente el problema\n11. Resolviendo el problema.\n
DTSTART:20241127T160000
DTEND:20241127T170000
DTSTAMP:20260419T143814Z
LOCATION:Online
PRIORITY:5
SEQUENCE:0
SUMMARY;LANGUAGE=es-es:Tecnowebinars.com - :: Planificación avanzada de la producción
TRANSP:OPAQUE
UID:f7aff3324d4f0917f193b3f4b580460f Tecnowebinars.com
X-MICROSOFT-CDO-BUSYSTATUS:BUSY
X-MICROSOFT-CDO-IMPORTANCE:1
X-MICROSOFT-DISALLOW-COUNTER:FALSE
X-MS-OLK-ALLOWEXTERNCHECK:TRUE
X-MS-OLK-AUTOFILLLOCATION:FALSE
X-MS-OLK-CONFTYPE:0
BEGIN:VALARM
TRIGGER:-PT1440M
ACTION:DISPLAY
DESCRIPTION:Reminder
END:VALARM
END:VEVENT
END:VCALENDAR
