BEGIN:VCALENDAR
PRODID:-//Microsoft Corporation//Outlook 12.0 MIMEDIR//EN
VERSION:2.0
METHOD:PUBLISH
X-MS-OLK-FORCEINSPECTOROPEN:TRUE
BEGIN:VEVENT
CLASS:PUBLIC
CREATED:20260420T030516Z
DESCRIPTION:Security operations (SecOps) is a game of continuous improvement. Threat actors and attacks constantly evolve, so blue teams must also continually enhance their processes, skills, and controls to meet the challenge.\nMany SecOps teams have adopted a proactive approach to stay ahead of today’s threat landscape with security control validation. Production safe simulations offer a realistic environment that closely mirrors production systems, replicating actual working conditions so that SecOps teams can develop more effective strategies and responses.\nJoin industry leaders as they discuss this shift in SecOps strategy and highlight how automated security validation can take your SecOps team to the next level.\nPanelists include:\n* Raphael Ferreira, Cybersecurity Manager, Banco PAN\n* Markus Flatscher, Senior Security Manager, Raiffeisen Bank International AG\nRegister now for an informal discussion that will cover:\nThe impact of compliance regulations on SecOps\nHow offensive security testing can improve vulnerability management\nStrategies and tools to stay ahead of emergent threats\nThe role of SecOps in exposure management\n
DTSTART:20241029T110000
DTEND:20241029T120000
DTSTAMP:20260420T030516Z
LOCATION:Online
PRIORITY:5
SEQUENCE:0
SUMMARY;LANGUAGE=es-es:Tecnowebinars.com - :: SecOps Roundtable: Security Validation and the Path to Exposure Management
TRANSP:OPAQUE
UID:9cb99a323368d1d0d5fd1349d30c43e1 Tecnowebinars.com
X-MICROSOFT-CDO-BUSYSTATUS:BUSY
X-MICROSOFT-CDO-IMPORTANCE:1
X-MICROSOFT-DISALLOW-COUNTER:FALSE
X-MS-OLK-ALLOWEXTERNCHECK:TRUE
X-MS-OLK-AUTOFILLLOCATION:FALSE
X-MS-OLK-CONFTYPE:0
BEGIN:VALARM
TRIGGER:-PT1440M
ACTION:DISPLAY
DESCRIPTION:Reminder
END:VALARM
END:VEVENT
END:VCALENDAR
