BEGIN:VCALENDAR
PRODID:-//Microsoft Corporation//Outlook 12.0 MIMEDIR//EN
VERSION:2.0
METHOD:PUBLISH
X-MS-OLK-FORCEINSPECTOROPEN:TRUE
BEGIN:VEVENT
CLASS:PUBLIC
CREATED:20260419T171045Z
DESCRIPTION:Webinar de EOS  sobre ejemplos de uso de sus impresoras 3D de metal en diferentes frabricantes.\n \nEste seminario web explora las ventajas competitivas que ofrece la impresión 3D de metal, presentando a expertos de Rennscot MFG y EOS que comparten sus experiencias y estrategias para la adopción de la fabricación aditiva.\nKey Takeaways\nEl seminario web se centra en las oportunidades que la impresión 3D de metal ofrece para el desarrollo empresarial y la satisfacción de las necesidades de los clientes en diversos sectores.\nRennscot MFG ha utilizado la impresión 3D de metal para expandir sus procesos de producción y penetrar en los sectores aeroespacial y de semiconductores.\nEOS Additive Minds ha ayudado a más de 1000 empresas a adoptar la fabricación aditiva, ofreciendo estrategias prácticas para la transición.\nFabian Alefeld de EOS y David Bamforth de Rennscot MFG compartirán sus experiencias y conocimientos en el seminario web.\nEl seminario web es una oportunidad para que las empresas exploren cómo la impresión 3D de metal puede mejorar sus operaciones, tanto si son nuevas en la fabricación aditiva como si buscan ampliar sus capacidades.\n¿Qué hace EOS?\n \nEOS es un proveedor líder de impresoras 3D de metal con soluciones tecnológicas DMLS que ofrece una gama de impresoras 3D de metal industriales para diversos requisitos de fabricación.\nKey Takeaways\nEOS se especializa en impresoras 3D de metal y ofrece soluciones tecnológicas DMLS.\nOfrecen una amplia gama de impresoras 3D de metal industriales que se pueden integrar en entornos de producción existentes.\nSus impresoras 3D de metal se dividen en las series M 290, M 300 y M 400, cada una con diferentes capacidades y tamaños de construcción.\nLa serie EOS M 290 es una solución de tamaño mediano con una amplia gama de materiales, mientras que la serie M 300 ofrece alta productividad.\nLa serie M 400 es una plataforma de producción para la fabricación aditiva de piezas metálicas de alta calidad.\nEOS Group también ofrece soluciones AM personalizadas a través de AMCM, que se construyen según los requisitos específicos del cliente.\n \nPresenter 1:\nFabian Alefeld\n \nSenior Manager, Additive Minds Consulting and Academy Services; EOS\nFabian Alefeld leads the global additive minds business development and academy teams at EOS, providing direction for technical consulting and education to accelerate AM adoption. He also hosts the AM podcast Additive Snack, featuring insights from industry experts. Fabian joined EOS in 2016, scaling the Additive Minds services globally. He holds bachelor’s and master’s degrees in industrial engineering from Munich University of Applied Sciences.\n \nPresenter 2:\nDavid Bamforth\n \nPresident and CEO, Rennscot MFG\nDavid Bamforth has built Rennscot MFG over the past six years to the advanced manufacturing business it is today. The business first began while he was in his junior year of earning his bachelor's degree in mechanical engineering with a minor in manufacturing. Since its inception, the business has transformed into a manufacturing business offering machining and AM services to aerospace, defense, semiconductor and other high-tech industries. Rennscot MFG differentiates itself by being more than just a machine shop, leveraging a young team with a focus on modern manufacturing processes, software and tools.\n \nPresenter 3:\nTommy Lynch\n \nSenior Applications Engineer - Additive Manufacturing, Phillips Corporation\nTommy Lynch joined Phillips Corporation in July 2023. He brings over 20 years of industry experience operating industrial AM equipment and consulting clients on optimizing designs for both metal and polymer printing. Over the years, he has worked with thousands of customers to get their printing projects right on the first try. Tommy's success stems from his positive attitude, enthusiasm for new technologies and strong customer relationships.\n \n \n
DTSTART:20241008T170000
DTEND:20241008T180000
DTSTAMP:20260419T171045Z
LOCATION:Online
PRIORITY:5
SEQUENCE:0
SUMMARY;LANGUAGE=es-es:Tecnowebinars.com - :: Impresión 3D de metal: la revolución
TRANSP:OPAQUE
UID:acc222e922d7500ea1d0841428f9e057 Tecnowebinars.com
X-MICROSOFT-CDO-BUSYSTATUS:BUSY
X-MICROSOFT-CDO-IMPORTANCE:1
X-MICROSOFT-DISALLOW-COUNTER:FALSE
X-MS-OLK-ALLOWEXTERNCHECK:TRUE
X-MS-OLK-AUTOFILLLOCATION:FALSE
X-MS-OLK-CONFTYPE:0
BEGIN:VALARM
TRIGGER:-PT1440M
ACTION:DISPLAY
DESCRIPTION:Reminder
END:VALARM
END:VEVENT
END:VCALENDAR
