BEGIN:VCALENDAR
PRODID:-//Microsoft Corporation//Outlook 12.0 MIMEDIR//EN
VERSION:2.0
METHOD:PUBLISH
X-MS-OLK-FORCEINSPECTOROPEN:TRUE
BEGIN:VEVENT
CLASS:PUBLIC
CREATED:20260419T185445Z
DESCRIPTION:Explore new features like radar model encryption for secure sharing, adaptive grid sampling for faster simulations, improved Lidar accuracy, expanded ODD capabilities and UI enhancements for the AVxcelerate Autonomy toolchain.\n
DTSTART:20240918T160000
DTEND:20240918T170000
DTSTAMP:20260419T185445Z
LOCATION:Online
PRIORITY:5
SEQUENCE:0
SUMMARY;LANGUAGE=es-es:Tecnowebinars.com - :: Ansys 2024 R2: Ansys Autonomous Vehicle Simulation (AVxcelerate) What’s New
TRANSP:OPAQUE
UID:ffd5006c48e05a184af2fad0d1a46074 Tecnowebinars.com
X-MICROSOFT-CDO-BUSYSTATUS:BUSY
X-MICROSOFT-CDO-IMPORTANCE:1
X-MICROSOFT-DISALLOW-COUNTER:FALSE
X-MS-OLK-ALLOWEXTERNCHECK:TRUE
X-MS-OLK-AUTOFILLLOCATION:FALSE
X-MS-OLK-CONFTYPE:0
BEGIN:VALARM
TRIGGER:-PT1440M
ACTION:DISPLAY
DESCRIPTION:Reminder
END:VALARM
END:VEVENT
END:VCALENDAR
