BEGIN:VCALENDAR
PRODID:-//Microsoft Corporation//Outlook 12.0 MIMEDIR//EN
VERSION:2.0
METHOD:PUBLISH
X-MS-OLK-FORCEINSPECTOROPEN:TRUE
BEGIN:VEVENT
CLASS:PUBLIC
CREATED:20260419T184342Z
DESCRIPTION:Learn about the latest innovations for the Ansys Safety Analysis platform for Ansys 2024 R2, which includes a collaboration solution that enables seamless teamwork and serves our new web-based Digital Safety Manager (DSM).\n
DTSTART:20240918T170000
DTEND:20240918T180000
DTSTAMP:20260419T184342Z
LOCATION:Online
PRIORITY:5
SEQUENCE:0
SUMMARY;LANGUAGE=es-es:Tecnowebinars.com - :: Ansys 2024 R2: Ansys Safety Analysis What's New
TRANSP:OPAQUE
UID:02486a455609043212633bd628df7b07 Tecnowebinars.com
X-MICROSOFT-CDO-BUSYSTATUS:BUSY
X-MICROSOFT-CDO-IMPORTANCE:1
X-MICROSOFT-DISALLOW-COUNTER:FALSE
X-MS-OLK-ALLOWEXTERNCHECK:TRUE
X-MS-OLK-AUTOFILLLOCATION:FALSE
X-MS-OLK-CONFTYPE:0
BEGIN:VALARM
TRIGGER:-PT1440M
ACTION:DISPLAY
DESCRIPTION:Reminder
END:VALARM
END:VEVENT
END:VCALENDAR
