BEGIN:VCALENDAR
PRODID:-//Microsoft Corporation//Outlook 12.0 MIMEDIR//EN
VERSION:2.0
METHOD:PUBLISH
X-MS-OLK-FORCEINSPECTOROPEN:TRUE
BEGIN:VEVENT
CLASS:PUBLIC
CREATED:20260419T171110Z
DESCRIPTION:Discover the new features will enable Ansys ModelCenter and STK users to create, access, save, and version control models and workflows directly with Ansys Minerva.\n
DTSTART:20241003T170000
DTEND:20241003T180000
DTSTAMP:20260419T171110Z
LOCATION:Online
PRIORITY:5
SEQUENCE:0
SUMMARY;LANGUAGE=es-es:Tecnowebinars.com - :: Ansys 2024 R2: Boost Digital Engineering with Ansys Minerva, Ansys ModelCenter, and Ansys STK Integration
TRANSP:OPAQUE
UID:9467c673ee900e3188599e25334fa49a Tecnowebinars.com
X-MICROSOFT-CDO-BUSYSTATUS:BUSY
X-MICROSOFT-CDO-IMPORTANCE:1
X-MICROSOFT-DISALLOW-COUNTER:FALSE
X-MS-OLK-ALLOWEXTERNCHECK:TRUE
X-MS-OLK-AUTOFILLLOCATION:FALSE
X-MS-OLK-CONFTYPE:0
BEGIN:VALARM
TRIGGER:-PT1440M
ACTION:DISPLAY
DESCRIPTION:Reminder
END:VALARM
END:VEVENT
END:VCALENDAR
