BEGIN:VCALENDAR
PRODID:-//Microsoft Corporation//Outlook 12.0 MIMEDIR//EN
VERSION:2.0
METHOD:PUBLISH
X-MS-OLK-FORCEINSPECTOROPEN:TRUE
BEGIN:VEVENT
CLASS:PUBLIC
CREATED:20260419T184343Z
DESCRIPTION:Learn how to model wideband coherent radar signature analysis to understand the radar scattering physics of complex targets, from dynamic vehicles to urban scenes, to support ISAR and SAR data generation during this upcoming webinar.\n
DTSTART:20240917T170000
DTEND:20240917T180000
DTSTAMP:20260419T184343Z
LOCATION:Online
PRIORITY:5
SEQUENCE:0
SUMMARY;LANGUAGE=es-es:Tecnowebinars.com - :: High-Fidelity Channel Modeling for Coherent Synthetic Radar Data
TRANSP:OPAQUE
UID:cb605ba7b21dbb012188974992ae4b7a Tecnowebinars.com
X-MICROSOFT-CDO-BUSYSTATUS:BUSY
X-MICROSOFT-CDO-IMPORTANCE:1
X-MICROSOFT-DISALLOW-COUNTER:FALSE
X-MS-OLK-ALLOWEXTERNCHECK:TRUE
X-MS-OLK-AUTOFILLLOCATION:FALSE
X-MS-OLK-CONFTYPE:0
BEGIN:VALARM
TRIGGER:-PT1440M
ACTION:DISPLAY
DESCRIPTION:Reminder
END:VALARM
END:VEVENT
END:VCALENDAR
