BEGIN:VCALENDAR
PRODID:-//Microsoft Corporation//Outlook 12.0 MIMEDIR//EN
VERSION:2.0
METHOD:PUBLISH
X-MS-OLK-FORCEINSPECTOROPEN:TRUE
BEGIN:VEVENT
CLASS:PUBLIC
CREATED:20260419T194833Z
DESCRIPTION:Join us for an insightful webinar exploring the iboss Parent Portal, a powerful tool designed to help parents monitor and manage their children's online activities. In this session, we will guide you through the intuitive features of the Parent Portal, including detailed activity reports, internet access controls, and event monitoring. Tailored for K-12 administrators and organizations, this session will demonstrate how the Parent Portal empowers parents to take an active role in their children's online safety, creating a safer digital environment both at school and at home.\n
DTSTART:20241002T190000
DTEND:20241002T200000
DTSTAMP:20260419T194833Z
LOCATION:Online
PRIORITY:5
SEQUENCE:0
SUMMARY;LANGUAGE=es-es:Tecnowebinars.com - :: Enhancing Digital Safety: How the iboss Parent Portal Protects and Empowers Families
TRANSP:OPAQUE
UID:6585a2d29c5699cf2358698593c2e8f5 Tecnowebinars.com
X-MICROSOFT-CDO-BUSYSTATUS:BUSY
X-MICROSOFT-CDO-IMPORTANCE:1
X-MICROSOFT-DISALLOW-COUNTER:FALSE
X-MS-OLK-ALLOWEXTERNCHECK:TRUE
X-MS-OLK-AUTOFILLLOCATION:FALSE
X-MS-OLK-CONFTYPE:0
BEGIN:VALARM
TRIGGER:-PT1440M
ACTION:DISPLAY
DESCRIPTION:Reminder
END:VALARM
END:VEVENT
END:VCALENDAR
