BEGIN:VCALENDAR
PRODID:-//Microsoft Corporation//Outlook 12.0 MIMEDIR//EN
VERSION:2.0
METHOD:PUBLISH
X-MS-OLK-FORCEINSPECTOROPEN:TRUE
BEGIN:VEVENT
CLASS:PUBLIC
CREATED:20260419T171111Z
DESCRIPTION: To conclude this series, experts will offer their final thoughts on bringing it all together - building industrial agents to carry out more complex industrial operations with accurate, trustworthy outcomes. In this session we’ll showcase what types of industrial agents are available today and share how customers in the energy and continuous process industries are already using the technology to improve their operations.\n \n
DTSTART:20241010T150000
DTEND:20241010T160000
DTSTAMP:20260419T171111Z
LOCATION:Online
PRIORITY:5
SEQUENCE:0
SUMMARY;LANGUAGE=es-es:Tecnowebinars.com - :: Putting it all together: industrial AI agents in practice
TRANSP:OPAQUE
UID:6c919997fc85713c7266a2b8ce71fad3 Tecnowebinars.com
X-MICROSOFT-CDO-BUSYSTATUS:BUSY
X-MICROSOFT-CDO-IMPORTANCE:1
X-MICROSOFT-DISALLOW-COUNTER:FALSE
X-MS-OLK-ALLOWEXTERNCHECK:TRUE
X-MS-OLK-AUTOFILLLOCATION:FALSE
X-MS-OLK-CONFTYPE:0
BEGIN:VALARM
TRIGGER:-PT1440M
ACTION:DISPLAY
DESCRIPTION:Reminder
END:VALARM
END:VEVENT
END:VCALENDAR
