BEGIN:VCALENDAR
PRODID:-//Microsoft Corporation//Outlook 12.0 MIMEDIR//EN
VERSION:2.0
METHOD:PUBLISH
X-MS-OLK-FORCEINSPECTOROPEN:TRUE
BEGIN:VEVENT
CLASS:PUBLIC
CREATED:20260419T184342Z
DESCRIPTION: AI outcomes succeed or fail based on the data available to it. So how can digital teams and operators meet today’s increasingly complex data requirements for developing and deploying AI agents? In this session, we’ll unpack modern data platform elements for Industrial AI and highlight a new key term - Context Augmented Generation - and explain how it enables greater accuracy and performance for LLMs.\n \n
DTSTART:20240926T150000
DTEND:20240926T160000
DTSTAMP:20260419T184342Z
LOCATION:Online
PRIORITY:5
SEQUENCE:0
SUMMARY;LANGUAGE=es-es:Tecnowebinars.com - :: Unlocking Data & AI: Essential foundations for industrial agents
TRANSP:OPAQUE
UID:941384014c16f8496cbce4a49b540275 Tecnowebinars.com
X-MICROSOFT-CDO-BUSYSTATUS:BUSY
X-MICROSOFT-CDO-IMPORTANCE:1
X-MICROSOFT-DISALLOW-COUNTER:FALSE
X-MS-OLK-ALLOWEXTERNCHECK:TRUE
X-MS-OLK-AUTOFILLLOCATION:FALSE
X-MS-OLK-CONFTYPE:0
BEGIN:VALARM
TRIGGER:-PT1440M
ACTION:DISPLAY
DESCRIPTION:Reminder
END:VALARM
END:VEVENT
END:VCALENDAR
