BEGIN:VCALENDAR
PRODID:-//Microsoft Corporation//Outlook 12.0 MIMEDIR//EN
VERSION:2.0
METHOD:PUBLISH
X-MS-OLK-FORCEINSPECTOROPEN:TRUE
BEGIN:VEVENT
CLASS:PUBLIC
CREATED:20260419T184336Z
DESCRIPTION:¿Qué son los agentes industriales y en qué se parecen o se diferencian de los copilotos, la automatización robótica de procesos (RPA), etc.?\nEn esta sesión, analizaremos por qué los enfoques iniciales para los agentes industriales no funcionaron la primera vez y por qué implementarlos sigue siendo un desafío en la actualidad.\nAprenderá más sobre en qué debe centrarse para permitir que los agentes industriales utilicen la IA generativa para realizar operaciones más complejas con mayor precisión y a mayor velocidad y obtener resultados comerciales tangibles.\n \n
DTSTART:20240919T150000
DTEND:20240919T160000
DTSTAMP:20260419T184336Z
LOCATION:Online
PRIORITY:5
SEQUENCE:0
SUMMARY;LANGUAGE=es-es:Tecnowebinars.com - :: IA en la Industria con Cognite. Serie de webinars.
TRANSP:OPAQUE
UID:c413ea012dbe0064124d43f8a8ef4f6d Tecnowebinars.com
X-MICROSOFT-CDO-BUSYSTATUS:BUSY
X-MICROSOFT-CDO-IMPORTANCE:1
X-MICROSOFT-DISALLOW-COUNTER:FALSE
X-MS-OLK-ALLOWEXTERNCHECK:TRUE
X-MS-OLK-AUTOFILLLOCATION:FALSE
X-MS-OLK-CONFTYPE:0
BEGIN:VALARM
TRIGGER:-PT1440M
ACTION:DISPLAY
DESCRIPTION:Reminder
END:VALARM
END:VEVENT
END:VCALENDAR
