BEGIN:VCALENDAR
PRODID:-//Microsoft Corporation//Outlook 12.0 MIMEDIR//EN
VERSION:2.0
METHOD:PUBLISH
X-MS-OLK-FORCEINSPECTOROPEN:TRUE
BEGIN:VEVENT
CLASS:PUBLIC
CREATED:20260419T171111Z
DESCRIPTION: Mejora la experiencia de servicio al cliente con Salesforce Service Cloud. En este webinar, exploraremos cómo puedes automatizar procesos de atención, ofrecer soporte omnicanal, y utilizar herramientas de inteligencia artificial para resolver incidencias de manera proactiva. Aprende cómo Service Cloud puede reducir el tiempo de respuesta y aumentar la satisfacción del cliente.\n \n
DTSTART:20241023T200000
DTEND:20241023T210000
DTSTAMP:20260419T171111Z
LOCATION:Online
PRIORITY:5
SEQUENCE:0
SUMMARY;LANGUAGE=es-es:Tecnowebinars.com - :: Salesforce Service Cloud
TRANSP:OPAQUE
UID:af592fab592a6f66dbcc532b8f5de3d3 Tecnowebinars.com
X-MICROSOFT-CDO-BUSYSTATUS:BUSY
X-MICROSOFT-CDO-IMPORTANCE:1
X-MICROSOFT-DISALLOW-COUNTER:FALSE
X-MS-OLK-ALLOWEXTERNCHECK:TRUE
X-MS-OLK-AUTOFILLLOCATION:FALSE
X-MS-OLK-CONFTYPE:0
BEGIN:VALARM
TRIGGER:-PT1440M
ACTION:DISPLAY
DESCRIPTION:Reminder
END:VALARM
END:VEVENT
END:VCALENDAR
