BEGIN:VCALENDAR
PRODID:-//Microsoft Corporation//Outlook 12.0 MIMEDIR//EN
VERSION:2.0
METHOD:PUBLISH
X-MS-OLK-FORCEINSPECTOROPEN:TRUE
BEGIN:VEVENT
CLASS:PUBLIC
CREATED:20260419T171130Z
DESCRIPTION: El uso de redes neuronales en el reconocimiento de imágenes ha evolucionado de forma exponencial. En el webinar revisaremos conceptos de los tipo de redes neuronales aplicados al reconocimiento de imágenes.\n \nDesarrollaremos juntos un modelo de reconocimiento de imágenes y el proceso para desarrollarlo\n
DTSTART:20241008T173000
DTEND:20241008T183000
DTSTAMP:20260419T171130Z
LOCATION:Online
PRIORITY:5
SEQUENCE:0
SUMMARY;LANGUAGE=es-es:Tecnowebinars.com - :: Deep Learning para Visión por Computadora
TRANSP:OPAQUE
UID:dcd23a13eed97e282cb060c3362ff300 Tecnowebinars.com
X-MICROSOFT-CDO-BUSYSTATUS:BUSY
X-MICROSOFT-CDO-IMPORTANCE:1
X-MICROSOFT-DISALLOW-COUNTER:FALSE
X-MS-OLK-ALLOWEXTERNCHECK:TRUE
X-MS-OLK-AUTOFILLLOCATION:FALSE
X-MS-OLK-CONFTYPE:0
BEGIN:VALARM
TRIGGER:-PT1440M
ACTION:DISPLAY
DESCRIPTION:Reminder
END:VALARM
END:VEVENT
END:VCALENDAR
