BEGIN:VCALENDAR
PRODID:-//Microsoft Corporation//Outlook 12.0 MIMEDIR//EN
VERSION:2.0
METHOD:PUBLISH
X-MS-OLK-FORCEINSPECTOROPEN:TRUE
BEGIN:VEVENT
CLASS:PUBLIC
CREATED:20260419T171130Z
DESCRIPTION: Descubre cómo Salesforce Marketing Cloud potencia las estrategias de marketing con inteligencia artificial. Aprende a segmentar a tus clientes de forma avanzada, automatizar campañas personalizadas y medir el ROI de manera precisa. Veremos casos de uso reales y las herramientas clave para optimizar el ciclo de vida del cliente, aprovechando la personalización predictiva y el análisis avanzado.\n
DTSTART:20241009T200000
DTEND:20241009T210000
DTSTAMP:20260419T171130Z
LOCATION:Online
PRIORITY:5
SEQUENCE:0
SUMMARY;LANGUAGE=es-es:Tecnowebinars.com - :: Salesforce Marketing Cloud "powered by AI"
TRANSP:OPAQUE
UID:1c665e4845b54eb111b456e5c3cc415b Tecnowebinars.com
X-MICROSOFT-CDO-BUSYSTATUS:BUSY
X-MICROSOFT-CDO-IMPORTANCE:1
X-MICROSOFT-DISALLOW-COUNTER:FALSE
X-MS-OLK-ALLOWEXTERNCHECK:TRUE
X-MS-OLK-AUTOFILLLOCATION:FALSE
X-MS-OLK-CONFTYPE:0
BEGIN:VALARM
TRIGGER:-PT1440M
ACTION:DISPLAY
DESCRIPTION:Reminder
END:VALARM
END:VEVENT
END:VCALENDAR
