BEGIN:VCALENDAR
PRODID:-//Microsoft Corporation//Outlook 12.0 MIMEDIR//EN
VERSION:2.0
METHOD:PUBLISH
X-MS-OLK-FORCEINSPECTOROPEN:TRUE
BEGIN:VEVENT
CLASS:PUBLIC
CREATED:20260419T185444Z
DESCRIPTION: ¡Únete a nosotros en este webinar para aprender sobre las novedades en nuestras extensiones de programación visual para Microsoft Dynamics 365 Business Central! El foco de este webinar estará en el VAPS (Planificador Avanzado de Producción Visual).\nEntre otras características menores, estamos emocionados y orgullosos de compartir contigo una mejora importante del producto. Llamamos a esta mejora del producto SDST (tiempos de configuración dependientes de la secuencia). En pocas palabras, permite tener en cuenta una matriz de tiempo de configuración al programar.\nSabemos que hay clientes de manufactura para quienes la reducción de los tiempos de configuración (y por lo tanto de los costos de configuración) es crucial. Por lo general, desean programar múltiples órdenes de producción para los mismos artículos o artículos similares uno tras otro para no tener que configurar la máquina o el centro de trabajo una y otra vez. Para lograr esto, (a) necesitas poder definir tiempos de configuración específicos del atributo del artículo y (b) luego aplicar esta información a tus procesos de programación.\nEl Business Central de fábrica no admite esta definición de una matriz de configuración, por lo que mejoramos el modelo de datos de Business Central con la última versión del VAPS. Esto nos proporciona nueva información y datos que podemos considerar al programar.\nEsperamos darte la bienvenida en este webinar en el que presentaremos, entre otras grandes características nuevas, la funcionalidad SDST y compartiremos ideas y casos de uso para los cuales esta nueva función se aplica a tus clientes o procesos.\n
DTSTART:20240924T160000
DTEND:20240924T170000
DTSTAMP:20260419T185444Z
LOCATION:Online
PRIORITY:5
SEQUENCE:0
SUMMARY;LANGUAGE=es-es:Tecnowebinars.com - :: Netronic añade SDST (sequence dependent setup times) a su planificador avanzado de producción para Dynamics 365 Business Central
TRANSP:OPAQUE
UID:fde24ec469b93d3aaeaa476efec61991 Tecnowebinars.com
X-MICROSOFT-CDO-BUSYSTATUS:BUSY
X-MICROSOFT-CDO-IMPORTANCE:1
X-MICROSOFT-DISALLOW-COUNTER:FALSE
X-MS-OLK-ALLOWEXTERNCHECK:TRUE
X-MS-OLK-AUTOFILLLOCATION:FALSE
X-MS-OLK-CONFTYPE:0
BEGIN:VALARM
TRIGGER:-PT1440M
ACTION:DISPLAY
DESCRIPTION:Reminder
END:VALARM
END:VEVENT
END:VCALENDAR
