BEGIN:VCALENDAR
PRODID:-//Microsoft Corporation//Outlook 12.0 MIMEDIR//EN
VERSION:2.0
METHOD:PUBLISH
X-MS-OLK-FORCEINSPECTOROPEN:TRUE
BEGIN:VEVENT
CLASS:PUBLIC
CREATED:20260419T184335Z
DESCRIPTION:Este seminario web gratuito explora cómo una colaboración efectiva en el desarrollo de productos, desde las primeras etapas hasta la validación final, puede acelerar la definición del producto y llevar los productos al mercado más rápidamente.\nPuntos importantes\nEste seminario web se centra en cómo maximizar la reutilización de datos, reducir la complejidad de la estructura del producto y simplificar la gobernanza del producto.\nEl seminario web destaca cómo los gerentes de producto y los ingenieros de ventas pueden crear diseños de productos nuevos utilizando contenido existente sin necesidad de un sistema CAD.\nLos equipos de ingeniería pueden llevar sus productos al mercado sin tener que gestionar su lanzamiento a través de una hoja de cálculo.\nLos ponentes del seminario web son expertos de Dassault Systèmes con una amplia experiencia en la industria.\nEl seminario web se llevará a cabo el 19 de septiembre de 2024 a las 2:00 p. m. ET.\n \nSpeakers\nSteve Fick | Industry Process Consultant | Dassault Systèmes\nAs an accomplished technical management professional, I'm passionate about helping customers realize engineering process improvement through the use of computer aided design tools and product data management solutions. I strive to build trusted business partnerships and work to enable both customers and channel partners with the very best tools, technologies, & methods for evaluating and implementing new software technologies.\n \n \nMichael King | Senior Industry Process Consultant | Dassault Systèmes\n \nDriven by a dedication to innovation and excellence, Michael King brings over two decades of diverse industry experience in product engineering and product lifecycle management. As a trusted advisor and technical expert, he excels in guiding companies through complex digital transformations, optimizing their processes with tailored PLM and PDM solutions.\n \nIn his role as a SOLIDWORKS Industry Process Consultant, Michael leverages his extensive technical expertise to enhance customer value and drive revenue growth through strategic technical engagements.\n \n \n \nScott Lidgey | Senior Industry Process Consultant | Dassault Systèmes\nWith a passion for cutting-edge technologies, adept problem-solving skills, and a commitment to being a trusted advisor to clients, Scott Lidgey has amassed over 25 years of diverse industry experience. Throughout his career, he has been instrumental in guiding numerous companies through their digital transformation journeys.\n \nRecognized for his ability to develop tailored solutions that seamlessly integrate tools and processes, Scott has enabled organizations to overcome challenges and propel them toward sustained success in an ever-evolving digital landscape.\n
DTSTART:20240920T050000
DTEND:20240920T060000
DTSTAMP:20260419T184335Z
LOCATION:Online
PRIORITY:5
SEQUENCE:0
SUMMARY;LANGUAGE=es-es:Tecnowebinars.com - :: Acelera el desarrollo de productos industriales con Dassault
TRANSP:OPAQUE
UID:441bcb33743c9f4f89bf989983e57727 Tecnowebinars.com
X-MICROSOFT-CDO-BUSYSTATUS:BUSY
X-MICROSOFT-CDO-IMPORTANCE:1
X-MICROSOFT-DISALLOW-COUNTER:FALSE
X-MS-OLK-ALLOWEXTERNCHECK:TRUE
X-MS-OLK-AUTOFILLLOCATION:FALSE
X-MS-OLK-CONFTYPE:0
BEGIN:VALARM
TRIGGER:-PT1440M
ACTION:DISPLAY
DESCRIPTION:Reminder
END:VALARM
END:VEVENT
END:VCALENDAR
