BEGIN:VCALENDAR
PRODID:-//Microsoft Corporation//Outlook 12.0 MIMEDIR//EN
VERSION:2.0
METHOD:PUBLISH
X-MS-OLK-FORCEINSPECTOROPEN:TRUE
BEGIN:VEVENT
CLASS:PUBLIC
CREATED:20260419T183245Z
DESCRIPTION:Este webinar explora el impacto transformador de los sistemas MES en la industria del moldeo por inyección de plástico, destacando sus beneficios en eficiencia, control de calidad y reducción de tiempo de inactividad.\nAsuntos principales\nLos MES mejoran la eficiencia de producción, el control de calidad y el monitoreo en tiempo real, al mismo tiempo que reducen el tiempo de inactividad.\nLos MES se integran con los sistemas existentes, enfatizando el cumplimiento y la trazabilidad, particularmente para los sectores automotriz y médico.\nLas tecnologías emergentes como IoT e IA impulsan la innovación y la mejora continua en los MES.\nEdoardo Tettamanti y Giorgio Pigozzo, expertos en Wittmann Digital, presentarán las ventajas y el potencial de los MES.\nEl webinar ofrece una descripción general de los beneficios de los MES, incluyendo su definición, función, historia, importancia de la conectividad y ventajas en eficiencia y ahorro de costos.\nEl webinar discutirá el papel de IoT e IA en los MES y cómo estas tecnologías están impulsando la innovación.\n
DTSTART:20240918T160000
DTEND:20240918T150000
DTSTAMP:20260419T183245Z
LOCATION:Online
PRIORITY:5
SEQUENCE:0
SUMMARY;LANGUAGE=es-es:Tecnowebinars.com - :: Impacto del software MES en la industria del plástico
TRANSP:OPAQUE
UID:01e79a831bb8040884d1731ad56750e9 Tecnowebinars.com
X-MICROSOFT-CDO-BUSYSTATUS:BUSY
X-MICROSOFT-CDO-IMPORTANCE:1
X-MICROSOFT-DISALLOW-COUNTER:FALSE
X-MS-OLK-ALLOWEXTERNCHECK:TRUE
X-MS-OLK-AUTOFILLLOCATION:FALSE
X-MS-OLK-CONFTYPE:0
BEGIN:VALARM
TRIGGER:-PT1440M
ACTION:DISPLAY
DESCRIPTION:Reminder
END:VALARM
END:VEVENT
END:VCALENDAR
