BEGIN:VCALENDAR
PRODID:-//Microsoft Corporation//Outlook 12.0 MIMEDIR//EN
VERSION:2.0
METHOD:PUBLISH
X-MS-OLK-FORCEINSPECTOROPEN:TRUE
BEGIN:VEVENT
CLASS:PUBLIC
CREATED:20260419T185445Z
DESCRIPTION: Este webinar explora el impacto de la nueva norma NFPA 70B de 2023 sobre el mantenimiento eléctrico, destacando su importancia para la seguridad y confiabilidad de los sistemas eléctricos.\nPrincipales asuntos que se tocarán\nLa norma NFPA 70B de 2023 hace obligatoria la inspección y el mantenimiento de TODO el equipo eléctrico para garantizar la seguridad y la confiabilidad.\nEl webinar analizará las especificaciones de mantenimiento en la nueva NFPA 70B en relación con las estrategias de mantenimiento preventivo, predictivo y correctivo.\nSe discutirá cómo las prácticas de mantenimiento influyen en la continuidad operativa, el bienestar del personal y la productividad general de la planta.\nSe explorarán las mejores prácticas para prevenir fallas eléctricas comunes.\nEl webinar presentará herramientas y técnicas de diagnóstico avanzadas, como la termografía infrarroja y el monitoreo de condición en línea.\nSe establecerán los requisitos mínimos para el mantenimiento preventivo eléctrico (EPM).\nSe evaluará la condición del equipo eléctrico y su papel en la determinación de la frecuencia de las pruebas.\n
DTSTART:20240926T210000
DTEND:20240926T220000
DTSTAMP:20260419T185445Z
LOCATION:Online
PRIORITY:5
SEQUENCE:0
SUMMARY;LANGUAGE=es-es:Tecnowebinars.com - :: Impacto de norma NFPA 70B en instalaciones eléctricas industriales y comerciales
TRANSP:OPAQUE
UID:a7bb2f6aae06da9cecfdcc292c305fab Tecnowebinars.com
X-MICROSOFT-CDO-BUSYSTATUS:BUSY
X-MICROSOFT-CDO-IMPORTANCE:1
X-MICROSOFT-DISALLOW-COUNTER:FALSE
X-MS-OLK-ALLOWEXTERNCHECK:TRUE
X-MS-OLK-AUTOFILLLOCATION:FALSE
X-MS-OLK-CONFTYPE:0
BEGIN:VALARM
TRIGGER:-PT1440M
ACTION:DISPLAY
DESCRIPTION:Reminder
END:VALARM
END:VEVENT
END:VCALENDAR
