BEGIN:VCALENDAR
PRODID:-//Microsoft Corporation//Outlook 12.0 MIMEDIR//EN
VERSION:2.0
METHOD:PUBLISH
X-MS-OLK-FORCEINSPECTOROPEN:TRUE
BEGIN:VEVENT
CLASS:PUBLIC
CREATED:20260421T121144Z
DESCRIPTION:As generative AI copilots/ virtual assistants become widely available, companies are often struggling with justifying licensing and training costs, and in measuring ROI. In this session, Metrigy's Irwin Lazar, president and principal analyst, will share insights gathered from hundreds of end-user organizations.\nAttendees will learn:\n- How to measure ROI for generative AI collaboration tools.\n- How best to train users.\n- How generative AI apps are changing collaboration application deployments - How to translate time savings into measurable business value.\n
DTSTART:20241030T150000
DTEND:20241030T160000
DTSTAMP:20260421T121144Z
LOCATION:Online
PRIORITY:5
SEQUENCE:0
SUMMARY;LANGUAGE=es-es:Tecnowebinars.com - :: Realizing ROI for Generative AI in Collaboration
TRANSP:OPAQUE
UID:6ddb2a7a4f3e8a0ab622fc1b50433a25 Tecnowebinars.com
X-MICROSOFT-CDO-BUSYSTATUS:BUSY
X-MICROSOFT-CDO-IMPORTANCE:1
X-MICROSOFT-DISALLOW-COUNTER:FALSE
X-MS-OLK-ALLOWEXTERNCHECK:TRUE
X-MS-OLK-AUTOFILLLOCATION:FALSE
X-MS-OLK-CONFTYPE:0
BEGIN:VALARM
TRIGGER:-PT1440M
ACTION:DISPLAY
DESCRIPTION:Reminder
END:VALARM
END:VEVENT
END:VCALENDAR
