BEGIN:VCALENDAR
PRODID:-//Microsoft Corporation//Outlook 12.0 MIMEDIR//EN
VERSION:2.0
METHOD:PUBLISH
X-MS-OLK-FORCEINSPECTOROPEN:TRUE
BEGIN:VEVENT
CLASS:PUBLIC
CREATED:20260419T183302Z
DESCRIPTION:Snowflake Industry Day 2024 es un evento virtual gratuito dedicado a la industria manufacturera.\nEl evento se centra en cómo la tecnología y los líderes de la industria utilizan la nube de datos de IA de Snowflake para resolver desafíos clave.\nLos temas incluyen la liberación del valor total de los datos para impulsar la resiliencia de la cadena de suministro, mejorar la eficiencia de la manufactura, maximizar la calidad del producto y conectar el valor del producto con los datos.\nEl evento también explorará cómo operacionalizar y escalar las iniciativas de IA.\nLos asistentes podrán aprender sobre las últimas innovaciones en la nube de datos de IA para la manufactura.\nLos asistentes también podrán descubrir las últimas capacidades de Snowflake y los casos de uso de la industria.\nEl evento contará con expertos en datos de la industria manufacturera, incluidos líderes de Snowflake, clientes y socios.\n
DTSTART:20240912T190000
DTEND:20240912T220000
DTSTAMP:20260419T183302Z
LOCATION:Online
PRIORITY:5
SEQUENCE:0
SUMMARY;LANGUAGE=es-es:Tecnowebinars.com - :: IA Data Cloud de Snowflake para Fabricantes
TRANSP:OPAQUE
UID:047e57e793594321d9de0d026dfbce5a Tecnowebinars.com
X-MICROSOFT-CDO-BUSYSTATUS:BUSY
X-MICROSOFT-CDO-IMPORTANCE:1
X-MICROSOFT-DISALLOW-COUNTER:FALSE
X-MS-OLK-ALLOWEXTERNCHECK:TRUE
X-MS-OLK-AUTOFILLLOCATION:FALSE
X-MS-OLK-CONFTYPE:0
BEGIN:VALARM
TRIGGER:-PT1440M
ACTION:DISPLAY
DESCRIPTION:Reminder
END:VALARM
END:VEVENT
END:VCALENDAR
