BEGIN:VCALENDAR
PRODID:-//Microsoft Corporation//Outlook 12.0 MIMEDIR//EN
VERSION:2.0
METHOD:PUBLISH
X-MS-OLK-FORCEINSPECTOROPEN:TRUE
BEGIN:VEVENT
CLASS:PUBLIC
CREATED:20260419T185526Z
DESCRIPTION:Capturing cabling and connectivity requirements, creating outline and detailed design proposals, costing options and approaches all take up valuable engineering time. So why not make better use of existing toolsets like Excel and Visio? In our webinar we'll show how simply and quickly you can create schematics and bills of materials for complex cabling infrastructure. See how special Visio shapes in the AssetGen Cabling Architect V2 (ACA) enable faster design creation and refresh with changes in requirements.\n
DTSTART:20241024T000000
DTEND:20241024T010000
DTSTAMP:20260419T185526Z
LOCATION:Online
PRIORITY:5
SEQUENCE:0
SUMMARY;LANGUAGE=es-es:Tecnowebinars.com - :: Designing and Costing Cabling Infrastructure Using Excel/Visio Integration. Introducing AssetGen Cabling Architect V2
TRANSP:OPAQUE
UID:a54bebea9d3143abbd411247d6457e54 Tecnowebinars.com
X-MICROSOFT-CDO-BUSYSTATUS:BUSY
X-MICROSOFT-CDO-IMPORTANCE:1
X-MICROSOFT-DISALLOW-COUNTER:FALSE
X-MS-OLK-ALLOWEXTERNCHECK:TRUE
X-MS-OLK-AUTOFILLLOCATION:FALSE
X-MS-OLK-CONFTYPE:0
BEGIN:VALARM
TRIGGER:-PT1440M
ACTION:DISPLAY
DESCRIPTION:Reminder
END:VALARM
END:VEVENT
END:VCALENDAR
