BEGIN:VCALENDAR
PRODID:-//Microsoft Corporation//Outlook 12.0 MIMEDIR//EN
VERSION:2.0
METHOD:PUBLISH
X-MS-OLK-FORCEINSPECTOROPEN:TRUE
BEGIN:VEVENT
CLASS:PUBLIC
CREATED:20260425T115507Z
DESCRIPTION:The break-neck speed of technology innovation creates opportunities and challenges for security professionals. You wouldn’t drive a car if you could only see two-thirds of the road, yet we are expected to defend our ecosystems with similar levels of visibility, dispersed with an over-reliance on manual controls. During this webinar, we will dissect these challenges and provide best practice recommendations with a focus on positive business outcomes.\nRegister for this webinar to learn:\n-Why visibility is still such a huge challenge for security teams, and what can be done about it\n-How to approach automating more of our threat detection, investigation, and response operations\n-How to focus on business outcomes to bridge the gap to providing security at the speed of technology innovation\n
DTSTART:20240925T010000
DTEND:20240925T020000
DTSTAMP:20260425T115507Z
LOCATION:Online
PRIORITY:5
SEQUENCE:0
SUMMARY;LANGUAGE=es-es:Tecnowebinars.com - :: APAC - The Machines Are Learning, But Are We?
TRANSP:OPAQUE
UID:4cc92a25c6da5ece15b74d4fef796745 Tecnowebinars.com
X-MICROSOFT-CDO-BUSYSTATUS:BUSY
X-MICROSOFT-CDO-IMPORTANCE:1
X-MICROSOFT-DISALLOW-COUNTER:FALSE
X-MS-OLK-ALLOWEXTERNCHECK:TRUE
X-MS-OLK-AUTOFILLLOCATION:FALSE
X-MS-OLK-CONFTYPE:0
BEGIN:VALARM
TRIGGER:-PT1440M
ACTION:DISPLAY
DESCRIPTION:Reminder
END:VALARM
END:VEVENT
END:VCALENDAR
