BEGIN:VCALENDAR
PRODID:-//Microsoft Corporation//Outlook 12.0 MIMEDIR//EN
VERSION:2.0
METHOD:PUBLISH
X-MS-OLK-FORCEINSPECTOROPEN:TRUE
BEGIN:VEVENT
CLASS:PUBLIC
CREATED:20260419T155237Z
DESCRIPTION:Según el Informe Global del Mercado de Servicios Compartidos y Outsourcing de SSON para 2024, más de la mitad (52%) de las organizaciones están priorizando las herramientas de minería de procesos. Siendo una solución que proporciona visibilidad de procesos de extremo a extremo y actúa como una puerta de entrada a la excelencia en los procesos, no es sorprendente que esta tecnología siga siendo un enfoque clave dentro de la industria.\n \nSin embargo, los rápidos avances tecnológicos, particularmente el auge de la IA, significan que la mejora de procesos está cambiando de manera dramática. Las organizaciones están pasando de estrategias reactivas a proactivas, por lo que simplemente agregar visibilidad ya no es suficiente. La nueva ola de plataformas impulsadas por IA significa que las organizaciones buscan más que información; buscan acción.\n \n¿Listo para saber más?\n \nÚnete a SSON en este evento exclusivo de un solo día que te proporcionará las ideas necesarias para llevar tus procesos al siguiente nivel.\n \nTemas Clave\n \nAvances tecnológicos de vanguardia: desde la Minería de Procesos Centrada en Objetos hasta la IA generativa.\nEstudios de caso líderes en minería de procesos: ¡es hora de ir más allá de la teoría!\nLa importancia de la colaboración entre humanos y tecnología.\nMinería de procesos vs inteligencia de procesos.\nMejores prácticas de datos.\n
DTSTART:20241029T150000
DTEND:20241029T173000
DTSTAMP:20260419T155237Z
LOCATION:Online
PRIORITY:5
SEQUENCE:0
SUMMARY;LANGUAGE=es-es:Tecnowebinars.com - :: IA y Process Mining Summit
TRANSP:OPAQUE
UID:2fc38a6d1275659718fd54a244a37201 Tecnowebinars.com
X-MICROSOFT-CDO-BUSYSTATUS:BUSY
X-MICROSOFT-CDO-IMPORTANCE:1
X-MICROSOFT-DISALLOW-COUNTER:FALSE
X-MS-OLK-ALLOWEXTERNCHECK:TRUE
X-MS-OLK-AUTOFILLLOCATION:FALSE
X-MS-OLK-CONFTYPE:0
BEGIN:VALARM
TRIGGER:-PT1440M
ACTION:DISPLAY
DESCRIPTION:Reminder
END:VALARM
END:VEVENT
END:VCALENDAR
