BEGIN:VCALENDAR
PRODID:-//Microsoft Corporation//Outlook 12.0 MIMEDIR//EN
VERSION:2.0
METHOD:PUBLISH
X-MS-OLK-FORCEINSPECTOROPEN:TRUE
BEGIN:VEVENT
CLASS:PUBLIC
CREATED:20260419T183245Z
DESCRIPTION: \nWelcome to Registration for: AI Deployment summit\n \n \n2024 TRENDS:\n \nAI Deployment\nGenerative AI - ChatGPT - Intelligent Automaton - Private AI\nCode Automation & Testing - Data Orchestration - Vector Databases\n\n\nTitle:\nAI Deployment Summit\n\n\nDate:\nSeptember 26, 2024   (A Virtual Summit - 19hs españa \n\n\nAttend Online and Learn\nAI Deployment Summit - will address top AI and automation technology trends set to shape the enterprise landscape in 2024 - and beyond.\nGenerative AI for the Enterprise – ChatGPT\nConversational Gen AI is rewriting the rules for modern chatbots and ways to use English to interact with apps and data. Learn the latest trends to benefit customers and your business.\nAI Supercharges Low Code Platforms – Apps and Integration\nThanks to AI, low-code/no-code platforms can build faster and smarter apps and integrations -- often without tech skills. Learn the emerging use cases.   \n\nHow AI Modernizes ERP, Business Systems – Coming Enterprise 2.0\nBusinesses are already putting AI to use in 'live' systems to improve cash flows, uncover new profit potentials and predict trends.\nLLMs, Data and Vector Databases – Hidden Heros for AI Success\nLearn the potential of large language models, datastores and vector databases to unleash your first AI projects. Get expert tips and real world use cases.\nAI for DevOps and App Pipelines – Faster, Cleaner Apps that ‘Think’\nAI is set to disrupt app innovation. See how AI fights backlogs, delivers error-free QA, ensures security and embeds BPA/RPA with real-time intelligence.\nObservability w/ AIOps/MLOps – Intelligent Protection for Business IT\nEnterprises enjoy deep visibility and resiliency for IT systems and business apps. Learn how AI/ML improves DevOps, cuts MTTR and even automates self-healing.\nAI for Security, GRC – Smarter Protection for Apps, Data and Users\nSee how AI lets companies identify, prepare, and respond to threats before they happen. Solutions can also provide AI-assisted analysis and process controls.\n \n
DTSTART:20240926T190000
DTEND:20240926T200000
DTSTAMP:20260419T183245Z
LOCATION:Online
PRIORITY:5
SEQUENCE:0
SUMMARY;LANGUAGE=es-es:Tecnowebinars.com - :: AI Deployment summit
TRANSP:OPAQUE
UID:35be523f4565e93f092065b16fac1fc6 Tecnowebinars.com
X-MICROSOFT-CDO-BUSYSTATUS:BUSY
X-MICROSOFT-CDO-IMPORTANCE:1
X-MICROSOFT-DISALLOW-COUNTER:FALSE
X-MS-OLK-ALLOWEXTERNCHECK:TRUE
X-MS-OLK-AUTOFILLLOCATION:FALSE
X-MS-OLK-CONFTYPE:0
BEGIN:VALARM
TRIGGER:-PT1440M
ACTION:DISPLAY
DESCRIPTION:Reminder
END:VALARM
END:VEVENT
END:VCALENDAR
