BEGIN:VCALENDAR
PRODID:-//Microsoft Corporation//Outlook 12.0 MIMEDIR//EN
VERSION:2.0
METHOD:PUBLISH
X-MS-OLK-FORCEINSPECTOROPEN:TRUE
BEGIN:VEVENT
CLASS:PUBLIC
CREATED:20260419T185613Z
DESCRIPTION:See how process mining and task mining provide the insights you need to ensure you are correctly leveraging AI to maximize operational efficiency. Featuring Bruce Orcutt, Chief Marketing Officer, ABBYY, Marty Pavlik, Generative AI and Intelligent Automation Leader, Doculabs, Catherine Stewart, President & General Manager- Americas, Novelis.\n \n
DTSTART:20240926T190000
DTEND:20240926T200000
DTSTAMP:20260419T185613Z
LOCATION:Online
PRIORITY:5
SEQUENCE:0
SUMMARY;LANGUAGE=es-es:Tecnowebinars.com - :: Take the guess work out of your intelligent automation initiatives using process intelligence
TRANSP:OPAQUE
UID:85bbcb9562e8f1e7671d292329c05e66 Tecnowebinars.com
X-MICROSOFT-CDO-BUSYSTATUS:BUSY
X-MICROSOFT-CDO-IMPORTANCE:1
X-MICROSOFT-DISALLOW-COUNTER:FALSE
X-MS-OLK-ALLOWEXTERNCHECK:TRUE
X-MS-OLK-AUTOFILLLOCATION:FALSE
X-MS-OLK-CONFTYPE:0
BEGIN:VALARM
TRIGGER:-PT1440M
ACTION:DISPLAY
DESCRIPTION:Reminder
END:VALARM
END:VEVENT
END:VCALENDAR
