BEGIN:VCALENDAR
PRODID:-//Microsoft Corporation//Outlook 12.0 MIMEDIR//EN
VERSION:2.0
METHOD:PUBLISH
X-MS-OLK-FORCEINSPECTOROPEN:TRUE
BEGIN:VEVENT
CLASS:PUBLIC
CREATED:20260419T183245Z
DESCRIPTION:What to Expect:\nDiscover the latest innovations in GenAI-powered intelligent automation and dive deeper into your business-critical use cases with our expert-led technical breakout sessions. Our meticulously crafted agenda is designed to provide immediate value for you and your business.  \n- Latest Innovations: Explore our new AI-powered Intelligent Automation, Invoice Automation, and Document Automation & Security capabilities and solutions. \n- Product Roadmap: Get a sneak peek into Tungsten Automation's latest product innovations and explore real-world use cases with technical demonstrations.  \n- Expert Insights: Hear from industry leaders, technical experts, and the Tungsten Automation leadership team. \n- Collaborative Discussions: Connect with the Tungsten Automation leadership team and technical experts and participate via live Q&A\n- Live technology demonstrations: Engage with technical experts and immerse yourself in new technology demonstrations in an optional 30-minute session following the event.\n \nHear From Our Leaders and Technology Experts\n \n \nAdam Field\nSVP Product Management\nTungsten Automation\nDavid Sentongo\nSr. Director Product Strategy\nTungsten Automation\nEmily Nash-Walker\nSr. Director Product Strategy\nTungsten Automation\nMike Reynolds\nSr. Product Marketing Manager\nTungsten Automation\nNicolas Rochard\nSVP, Marketing\nTungsten Automation\n \n
DTSTART:20240925T170000
DTEND:20240925T180000
DTSTAMP:20260419T183245Z
LOCATION:Online
PRIORITY:5
SEQUENCE:0
SUMMARY;LANGUAGE=es-es:Tecnowebinars.com - :: Tungsten Automation Virtual Tech Event
TRANSP:OPAQUE
UID:6e736220261f0605361090f55a519995 Tecnowebinars.com
X-MICROSOFT-CDO-BUSYSTATUS:BUSY
X-MICROSOFT-CDO-IMPORTANCE:1
X-MICROSOFT-DISALLOW-COUNTER:FALSE
X-MS-OLK-ALLOWEXTERNCHECK:TRUE
X-MS-OLK-AUTOFILLLOCATION:FALSE
X-MS-OLK-CONFTYPE:0
BEGIN:VALARM
TRIGGER:-PT1440M
ACTION:DISPLAY
DESCRIPTION:Reminder
END:VALARM
END:VEVENT
END:VCALENDAR
