BEGIN:VCALENDAR
PRODID:-//Microsoft Corporation//Outlook 12.0 MIMEDIR//EN
VERSION:2.0
METHOD:PUBLISH
X-MS-OLK-FORCEINSPECTOROPEN:TRUE
BEGIN:VEVENT
CLASS:PUBLIC
CREATED:20260419T185527Z
DESCRIPTION:In this session, discover how Blackpool Teaching Hospitals NHS Foundation Trust has automated more than 90 business processes to address challenges around paper-process inefficiencies across multiple locations, by digitizing its business processes with flexibility and speed.\nJoin FlowForma's Alison Brannigan, and Laurent Kelly at Blackpool Teaching Hospitals NHS Foundation Trust, for real world insights into how this organization has enhanced digital workflows to save staff time, provide departments with a comprehensive audit trial and analytics with no code process automation.\nJoin this session to hear:\nThe significance of leveraging a process automation solution to address key workflow challenges across a wide range of departments.\nHow Blackpool Teaching Hospitals empowered adoption from staff members to executives and all the way to the CEO.\nPowers Apps vs. FlowForma Process Automation: the impact of delivering new systems via IT resources with minimal effort and no coding requirements.\nThe steps taken to train employees to build and manage their own business processes and workflows with no code.\nScaling automation: the future state of automation at Blackpool Teaching Hospitals.\nWhere and how automation will be used to enhance efficiency, consistency and accuracy.\n \nSpeakers\nLaurent Kelly\nIntelligent Automation (IA) Developer\nBlackpool Teaching Hospitals NHS Foundation Trust\nAlison Brannigan\nProcess Expert\nFlowForma\n
DTSTART:20240910T163000
DTEND:20240910T170000
DTSTAMP:20260419T185527Z
LOCATION:Online
PRIORITY:5
SEQUENCE:0
SUMMARY;LANGUAGE=es-es:Tecnowebinars.com - :: Blackpool Teaching Hospitals NHS Foundation Trust shares its process automation success story
TRANSP:OPAQUE
UID:16537ff152db890efb3feabadff67d87 Tecnowebinars.com
X-MICROSOFT-CDO-BUSYSTATUS:BUSY
X-MICROSOFT-CDO-IMPORTANCE:1
X-MICROSOFT-DISALLOW-COUNTER:FALSE
X-MS-OLK-ALLOWEXTERNCHECK:TRUE
X-MS-OLK-AUTOFILLLOCATION:FALSE
X-MS-OLK-CONFTYPE:0
BEGIN:VALARM
TRIGGER:-PT1440M
ACTION:DISPLAY
DESCRIPTION:Reminder
END:VALARM
END:VEVENT
END:VCALENDAR
