BEGIN:VCALENDAR
PRODID:-//Microsoft Corporation//Outlook 12.0 MIMEDIR//EN
VERSION:2.0
METHOD:PUBLISH
X-MS-OLK-FORCEINSPECTOROPEN:TRUE
BEGIN:VEVENT
CLASS:PUBLIC
CREATED:20260424T141050Z
DESCRIPTION:This demo will showcase the capabilities of ABB SSC 600 Lite running on the VMware Edge Compute Stack. You’ll learn how this solution enables smart substation control and protection by providing real-time monitoring, fault prediction, and analysis.\n
DTSTART:20240925T130000
DTEND:20240925T140000
DTSTAMP:20260424T141050Z
LOCATION:Online
PRIORITY:5
SEQUENCE:0
SUMMARY;LANGUAGE=es-es:Tecnowebinars.com - :: Protect Your Secondary Electric Substation with VMware Edge Compute Stack and ABB SSC 600 Lite
TRANSP:OPAQUE
UID:94103ff3f577909350a8e03ef156ae13 Tecnowebinars.com
X-MICROSOFT-CDO-BUSYSTATUS:BUSY
X-MICROSOFT-CDO-IMPORTANCE:1
X-MICROSOFT-DISALLOW-COUNTER:FALSE
X-MS-OLK-ALLOWEXTERNCHECK:TRUE
X-MS-OLK-AUTOFILLLOCATION:FALSE
X-MS-OLK-CONFTYPE:0
BEGIN:VALARM
TRIGGER:-PT1440M
ACTION:DISPLAY
DESCRIPTION:Reminder
END:VALARM
END:VEVENT
END:VCALENDAR
